BEGIN:VCALENDAR
VERSION:2.0
PRODID:-//Community Economic Defense Project - ECPv6.13.2.1//NONSGML v1.0//EN
CALSCALE:GREGORIAN
METHOD:PUBLISH
X-ORIGINAL-URL:https://cedproject.org
X-WR-CALDESC:Events for Community Economic Defense Project
REFRESH-INTERVAL;VALUE=DURATION:PT1H
X-Robots-Tag:noindex
X-PUBLISHED-TTL:PT1H
BEGIN:VTIMEZONE
TZID:America/Denver
BEGIN:DAYLIGHT
TZOFFSETFROM:-0700
TZOFFSETTO:-0600
TZNAME:MDT
DTSTART:20250309T090000
END:DAYLIGHT
BEGIN:STANDARD
TZOFFSETFROM:-0600
TZOFFSETTO:-0700
TZNAME:MST
DTSTART:20251102T080000
END:STANDARD
END:VTIMEZONE
BEGIN:VEVENT
DTSTART;TZID=America/Denver:20250904T090000
DTEND;TZID=America/Denver:20250904T140000
DTSTAMP:20260420T062826
CREATED:20250821T165530Z
LAST-MODIFIED:20250821T165530Z
UID:240822-1756976400-1756994400@cedproject.org
SUMMARY:CEDP Colorado Springs Office Morning Closure
DESCRIPTION:Our Colorado Springs office will be closed in the morning and open from 2 p.m. – 4 p.m. on September 4\, 2025.
URL:https://cedproject.org/event/cedp-colorado-springs-office-morning-closure/
END:VEVENT
BEGIN:VEVENT
DTSTART;TZID=America/Denver:20250904T090000
DTEND;TZID=America/Denver:20250904T130000
DTSTAMP:20260420T062826
CREATED:20250821T165303Z
LAST-MODIFIED:20250821T165303Z
UID:240820-1756976400-1756990800@cedproject.org
SUMMARY:CEDP Durango Office Morning Closure
DESCRIPTION:Our Durango office will be closed in the morning and open from 1 p.m. – 3 p.m. on September 4\, 2025.
URL:https://cedproject.org/event/cedp-durango-office-morning-closure/
END:VEVENT
BEGIN:VEVENT
DTSTART;TZID=America/Denver:20250904T080000
DTEND;TZID=America/Denver:20250904T130000
DTSTAMP:20260420T062826
CREATED:20250821T165155Z
LAST-MODIFIED:20250821T165155Z
UID:240818-1756972800-1756990800@cedproject.org
SUMMARY:CEDP Denver Office Morning Closure
DESCRIPTION:Our Denver office will be closed in the morning and open from 1 p.m. – 4 p.m. on September 4\, 2025.
URL:https://cedproject.org/event/cedp-denver-office-morning-closure/
END:VEVENT
BEGIN:VEVENT
DTSTART;TZID=America/Denver:20250901T090000
DTEND;TZID=America/Denver:20250901T160000
DTSTAMP:20260420T062826
CREATED:20250821T164948Z
LAST-MODIFIED:20250821T165332Z
UID:240816-1756717200-1756742400@cedproject.org
SUMMARY:CEDP Durango Office CLOSED
DESCRIPTION:
URL:https://cedproject.org/event/cedp-durango-office-closed-3/
LOCATION:Community Economic Defense Project (Durango Office)\, 1911 Main Ave.\, Suite 294\, Durango\, CO\, 81301\, United States
END:VEVENT
BEGIN:VEVENT
DTSTART;TZID=America/Denver:20250901T090000
DTEND;TZID=America/Denver:20250901T160000
DTSTAMP:20260420T062826
CREATED:20250821T164915Z
LAST-MODIFIED:20250821T165424Z
UID:240813-1756717200-1756742400@cedproject.org
SUMMARY:CEDP Colorado Springs Office CLOSED
DESCRIPTION:
URL:https://cedproject.org/event/cedp-colorado-springs-office-closed-3/
LOCATION:Community Economic Defense Project (Colorado Springs)\, 1520 Verde Dr.\, Room 151\, Colorado Springs\, CO\, 80910\, United States
END:VEVENT
BEGIN:VEVENT
DTSTART;TZID=America/Denver:20250901T090000
DTEND;TZID=America/Denver:20250901T150000
DTSTAMP:20260420T062826
CREATED:20250821T164815Z
LAST-MODIFIED:20250821T165350Z
UID:240811-1756717200-1756738800@cedproject.org
SUMMARY:CEDP Denver Office CLOSED
DESCRIPTION:
URL:https://cedproject.org/event/cedp-denver-office-closed-2/
LOCATION:Community Economic Defense Project (Denver Office)\, 1600 N. Downing St.\, Suite 600\, Denver\, 80218\, United States
END:VEVENT
BEGIN:VEVENT
DTSTART;TZID=America/Denver:20250829T100000
DTEND;TZID=America/Denver:20250829T140000
DTSTAMP:20260420T062826
CREATED:20250730T230118Z
LAST-MODIFIED:20250731T160024Z
UID:240789-1756461600-1756476000@cedproject.org
SUMMARY:Stronger Together Housing Legal Day
DESCRIPTION:Learn More about the Stronger Together Housing Legal Day event here!
URL:https://cedproject.org/event/stronger-together-housing-legal-day/
LOCATION:Family Success Center\, 1520 Verde Dr\, Colorado Springs\, CO\, 80910\, United States
END:VEVENT
BEGIN:VEVENT
DTSTART;TZID=America/Denver:20250821T173000
DTEND;TZID=America/Denver:20250821T183000
DTSTAMP:20260420T062826
CREATED:20250730T230850Z
LAST-MODIFIED:20250730T230921Z
UID:240795-1755797400-1755801000@cedproject.org
SUMMARY:Fair Housing and Discrimination: Protections for Tenants with Disabilities
DESCRIPTION:
URL:https://cedproject.org/event/fair-housing-and-discrimination-protections-for-tenants-with-disabilities/
LOCATION:Virtual
END:VEVENT
BEGIN:VEVENT
DTSTART;TZID=America/Denver:20250820T180000
DTEND;TZID=America/Denver:20250820T203000
DTSTAMP:20260420T062826
CREATED:20250730T225822Z
LAST-MODIFIED:20250730T225822Z
UID:240787-1755712800-1755721800@cedproject.org
SUMMARY:EC3 Monthly Legal Clinic
DESCRIPTION:
URL:https://cedproject.org/event/ec3-monthly-legal-clinic-3/
LOCATION:East Colfax Community Collective\, 1195 Newport St\, Denver\, CO\, 80220\, United States
END:VEVENT
BEGIN:VEVENT
DTSTART;TZID=America/Denver:20250818T090000
DTEND;TZID=America/Denver:20250818T170000
DTSTAMP:20260420T062826
CREATED:20250814T204119Z
LAST-MODIFIED:20250814T204208Z
UID:240806-1755507600-1755536400@cedproject.org
SUMMARY:Mobile Homeowner Assistance
DESCRIPTION:
URL:https://cedproject.org/event/mobile-homeowner-assistance/
LOCATION:Thornton Community Connections\, 9471 Dorothy Blvd\, Thornton\, CO\, 80229\, United States
END:VEVENT
BEGIN:VEVENT
DTSTART;TZID=America/Denver:20250812T180000
DTEND;TZID=America/Denver:20250812T190000
DTSTAMP:20260420T062826
CREATED:20250730T225737Z
LAST-MODIFIED:20250730T225737Z
UID:240784-1755021600-1755025200@cedproject.org
SUMMARY:Know Your Rights With United For a New Economy
DESCRIPTION:
URL:https://cedproject.org/event/know-your-rights-with-united-for-a-new-economy/
LOCATION:Village Crest Apartments\, 6201 E 62nd Ave\, Commerce City\, CO\, 80022\, United States
END:VEVENT
BEGIN:VEVENT
DTSTART;TZID=America/Denver:20250812T090000
DTEND;TZID=America/Denver:20250812T130000
DTSTAMP:20260420T062826
CREATED:20250730T225619Z
LAST-MODIFIED:20250730T225619Z
UID:240781-1754989200-1755003600@cedproject.org
SUMMARY:Tax Relief Clinic at Halcyon House
DESCRIPTION:
URL:https://cedproject.org/event/tax-relief-clinic-at-halcyon-house/
LOCATION:Halcyon House Apartments\, 1955 Arapahoe St\, Denver\, CO\, 80202\, United States
END:VEVENT
BEGIN:VEVENT
DTSTART;TZID=America/Denver:20250809T080000
DTEND;TZID=America/Denver:20250809T140000
DTSTAMP:20260420T062826
CREATED:20250730T225456Z
LAST-MODIFIED:20250730T225456Z
UID:240778-1754726400-1754748000@cedproject.org
SUMMARY:Golden Terrace Mobile Home Park Resource Fair
DESCRIPTION:
URL:https://cedproject.org/event/golden-terrace-mobile-home-park-resource-fair/
LOCATION:Golden Terrace\, 17801 W Colfax Ave\, Golden\, CO\, 80401\, United States
END:VEVENT
BEGIN:VEVENT
DTSTART;TZID=America/Denver:20250806T163000
DTEND;TZID=America/Denver:20250806T173000
DTSTAMP:20260420T062826
CREATED:20250730T225330Z
LAST-MODIFIED:20250814T203945Z
UID:240776-1754497800-1754501400@cedproject.org
SUMMARY:Know Your Rights: Move-Out Best Practices
DESCRIPTION:
URL:https://cedproject.org/event/know-your-rights-move-out-best-practices-2/
LOCATION:Centro San Juan Diego\, 2830 Lawrence St\, Denver\, 80205\, United States
END:VEVENT
BEGIN:VEVENT
DTSTART;TZID=America/Denver:20250802T100000
DTEND;TZID=America/Denver:20250802T140000
DTSTAMP:20260420T062826
CREATED:20250730T225208Z
LAST-MODIFIED:20250730T225208Z
UID:240772-1754128800-1754143200@cedproject.org
SUMMARY:Denver Back to School Fest
DESCRIPTION:Learn more about the event here: Denver’s Back to School Fest
URL:https://cedproject.org/event/denver-back-to-school-fest/
LOCATION:National Western Center\, 4797 National Western Dr\, Denver\, CO\, 80216\, United States
END:VEVENT
BEGIN:VEVENT
DTSTART;TZID=America/Denver:20250728T170000
DTEND;TZID=America/Denver:20250728T191500
DTSTAMP:20260420T062826
CREATED:20250627T191310Z
LAST-MODIFIED:20250627T191310Z
UID:240747-1753722000-1753730100@cedproject.org
SUMMARY:Know Your Rights: Rental Basics and LGBTQIA+ Tenant Protections
DESCRIPTION:
URL:https://cedproject.org/event/know-your-rights-rental-basics-and-lgbtqia-tenant-protections/
LOCATION:Joy as Resistance\, 1447 Quince St.\, Denver\, CO\, 80220\, United States
END:VEVENT
BEGIN:VEVENT
DTSTART;TZID=America/Denver:20250719T100000
DTEND;TZID=America/Denver:20250719T140000
DTSTAMP:20260420T062826
CREATED:20250627T190448Z
LAST-MODIFIED:20250627T190611Z
UID:240739-1752919200-1752933600@cedproject.org
SUMMARY:Family Success Center Block Party
DESCRIPTION:
URL:https://cedproject.org/event/family-success-center-block-party/
LOCATION:Community Economic Defense Project (Colorado Springs)\, 1520 Verde Dr.\, Room 151\, Colorado Springs\, CO\, 80910\, United States
END:VEVENT
BEGIN:VEVENT
DTSTART;TZID=America/Denver:20250717T170000
DTEND;TZID=America/Denver:20250717T180000
DTSTAMP:20260420T062826
CREATED:20250627T185659Z
LAST-MODIFIED:20250627T185659Z
UID:240726-1752771600-1752775200@cedproject.org
SUMMARY:Rental Basics: Move-Out Best Practices
DESCRIPTION:
URL:https://cedproject.org/event/rental-basics-move-out-best-practices/
LOCATION:Virtual
END:VEVENT
BEGIN:VEVENT
DTSTART;TZID=America/Denver:20250716T180000
DTEND;TZID=America/Denver:20250716T203000
DTSTAMP:20260420T062826
CREATED:20250627T185556Z
LAST-MODIFIED:20250627T185556Z
UID:240724-1752688800-1752697800@cedproject.org
SUMMARY:EC3 Monthly Legal Clinic
DESCRIPTION:
URL:https://cedproject.org/event/ec3-monthly-legal-clinic-2/
LOCATION:East Colfax Community Collective\, 1195 Newport St\, Denver\, CO\, 80220\, United States
END:VEVENT
BEGIN:VEVENT
DTSTART;TZID=America/Denver:20250711T090000
DTEND;TZID=America/Denver:20250711T170000
DTSTAMP:20260420T062826
CREATED:20250701T180925Z
LAST-MODIFIED:20250701T180925Z
UID:240758-1752224400-1752253200@cedproject.org
SUMMARY:CEDP Durango Office CLOSED
DESCRIPTION:
URL:https://cedproject.org/event/cedp-durango-office-closed-2/
LOCATION:Community Economic Defense Project (Durango Office)\, 1911 Main Ave.\, Suite 294\, Durango\, CO\, 81301\, United States
END:VEVENT
BEGIN:VEVENT
DTSTART;TZID=America/Denver:20250711T090000
DTEND;TZID=America/Denver:20250711T170000
DTSTAMP:20260420T062826
CREATED:20250627T190218Z
LAST-MODIFIED:20250627T190218Z
UID:240737-1752224400-1752253200@cedproject.org
SUMMARY:CEDP Denver Office CLOSED
DESCRIPTION:
URL:https://cedproject.org/event/cedp-denver-office-closed/
LOCATION:Community Economic Defense Project (Denver Office)\, 1600 N. Downing St.\, Suite 600\, Denver\, 80218\, United States
END:VEVENT
BEGIN:VEVENT
DTSTART;TZID=America/Denver:20250711T090000
DTEND;TZID=America/Denver:20250711T170000
DTSTAMP:20260420T062826
CREATED:20250627T190053Z
LAST-MODIFIED:20250627T190103Z
UID:240735-1752224400-1752253200@cedproject.org
SUMMARY:CEDP Colorado Springs Office CLOSED
DESCRIPTION:
URL:https://cedproject.org/event/cedp-colorado-springs-office-closed-2/
LOCATION:Community Economic Defense Project (Colorado Springs)\, 1520 Verde Dr.\, Room 151\, Colorado Springs\, CO\, 80910\, United States
END:VEVENT
BEGIN:VEVENT
DTSTART;TZID=America/Denver:20250704T090000
DTEND;TZID=America/Denver:20250704T170000
DTSTAMP:20260420T062826
CREATED:20250630T162534Z
LAST-MODIFIED:20250630T162534Z
UID:240750-1751619600-1751648400@cedproject.org
SUMMARY:CEDP Durango Office CLOSED
DESCRIPTION:
URL:https://cedproject.org/event/cedp-durango-office-closed/
LOCATION:Community Economic Defense Project (Durango Office)\, 1911 Main Ave.\, Suite 294\, Durango\, CO\, 81301\, United States
END:VEVENT
BEGIN:VEVENT
DTSTART;TZID=America/Denver:20250704T090000
DTEND;TZID=America/Denver:20250704T170000
DTSTAMP:20260420T062826
CREATED:20250627T190020Z
LAST-MODIFIED:20250627T190123Z
UID:240732-1751619600-1751648400@cedproject.org
SUMMARY:CEDP Colorado Springs Office CLOSED
DESCRIPTION:
URL:https://cedproject.org/event/cedp-colorado-springs-office-closed/
LOCATION:Community Economic Defense Project (Colorado Springs)\, 1520 Verde Dr.\, Room 151\, Colorado Springs\, CO\, 80910\, United States
END:VEVENT
BEGIN:VEVENT
DTSTART;TZID=America/Denver:20250704T090000
DTEND;TZID=America/Denver:20250704T170000
DTSTAMP:20260420T062826
CREATED:20250627T185848Z
LAST-MODIFIED:20250627T190143Z
UID:240728-1751619600-1751648400@cedproject.org
SUMMARY:CEDP Denver Office CLOSED
DESCRIPTION:
URL:https://cedproject.org/event/cedp-denver-colorado-springs-offices-closed/
LOCATION:Community Economic Defense Project (Denver Office)\, 1600 N. Downing St.\, Suite 600\, Denver\, 80218\, United States
END:VEVENT
BEGIN:VEVENT
DTSTART;TZID=America/Denver:20250703T170000
DTEND;TZID=America/Denver:20250703T180000
DTSTAMP:20260420T062826
CREATED:20250627T185211Z
LAST-MODIFIED:20250627T185211Z
UID:240722-1751562000-1751565600@cedproject.org
SUMMARY:Rental Basics: Warranty of Habitability
DESCRIPTION:
URL:https://cedproject.org/event/rental-basics-warranty-of-habitability/
LOCATION:Virtual
END:VEVENT
BEGIN:VEVENT
DTSTART;TZID=America/Denver:20250702T163000
DTEND;TZID=America/Denver:20250702T173000
DTSTAMP:20260420T062826
CREATED:20250627T184936Z
LAST-MODIFIED:20250627T185248Z
UID:240719-1751473800-1751477400@cedproject.org
SUMMARY:Know Your Rights: Move-Out Best Practices
DESCRIPTION:
URL:https://cedproject.org/event/know-your-rights-move-out-best-practices/
LOCATION:Centro San Juan Diego\, 2830 Lawrence St\, Denver\, 80205\, United States
END:VEVENT
BEGIN:VEVENT
DTSTART;TZID=America/Denver:20250701T160000
DTEND;TZID=America/Denver:20250701T200000
DTSTAMP:20260420T062826
CREATED:20250627T180050Z
LAST-MODIFIED:20250627T184733Z
UID:240715-1751385600-1751400000@cedproject.org
SUMMARY:Mobile Home Title Clinic
DESCRIPTION:
URL:https://cedproject.org/event/mobile-home-title-clinic/
LOCATION:Justice for the People Legal Center\, 4200 Morrison Rd\, Unit 3\, Denver\, CO\, 80219\, United States
END:VEVENT
BEGIN:VEVENT
DTSTART;TZID=America/Denver:20250629T090000
DTEND;TZID=America/Denver:20250629T120000
DTSTAMP:20260420T062826
CREATED:20250610T230710Z
LAST-MODIFIED:20250610T230710Z
UID:240652-1751187600-1751198400@cedproject.org
SUMMARY:2025 Vizzy Denver Pride Parade
DESCRIPTION:
URL:https://cedproject.org/event/2025-vizzy-denver-pride-parade/
END:VEVENT
BEGIN:VEVENT
DTSTART;TZID=America/Denver:20250627T080000
DTEND;TZID=America/Denver:20250627T170000
DTSTAMP:20260420T062826
CREATED:20250627T190759Z
LAST-MODIFIED:20250627T190759Z
UID:240744-1751011200-1751043600@cedproject.org
SUMMARY:Unity in Community Resource Fair
DESCRIPTION:
URL:https://cedproject.org/event/unity-in-community-resource-fair/
LOCATION:Mi Casa Resource Center\, 345 S Grove St.\, Denver\, 80219\, United States
END:VEVENT
END:VCALENDAR